BEGIN:VCALENDAR
VERSION:2.0
PRODID:-//Muheim Elementary - ECPv6.15.19//NONSGML v1.0//EN
CALSCALE:GREGORIAN
METHOD:PUBLISH
X-ORIGINAL-URL:https://mme.sd54.bc.ca
X-WR-CALDESC:Events for Muheim Elementary
REFRESH-INTERVAL;VALUE=DURATION:PT1H
X-Robots-Tag:noindex
X-PUBLISHED-TTL:PT1H
BEGIN:VTIMEZONE
TZID:America/Vancouver
BEGIN:DAYLIGHT
TZOFFSETFROM:-0800
TZOFFSETTO:-0700
TZNAME:PDT
DTSTART:20240310T100000
END:DAYLIGHT
BEGIN:STANDARD
TZOFFSETFROM:-0700
TZOFFSETTO:-0800
TZNAME:PST
DTSTART:20241103T090000
END:STANDARD
BEGIN:DAYLIGHT
TZOFFSETFROM:-0800
TZOFFSETTO:-0700
TZNAME:PDT
DTSTART:20250309T100000
END:DAYLIGHT
BEGIN:STANDARD
TZOFFSETFROM:-0700
TZOFFSETTO:-0800
TZNAME:PST
DTSTART:20251102T090000
END:STANDARD
BEGIN:DAYLIGHT
TZOFFSETFROM:-0800
TZOFFSETTO:-0700
TZNAME:PDT
DTSTART:20260308T100000
END:DAYLIGHT
BEGIN:STANDARD
TZOFFSETFROM:-0700
TZOFFSETTO:-0800
TZNAME:PST
DTSTART:20261101T090000
END:STANDARD
END:VTIMEZONE
BEGIN:VEVENT
DTSTART;TZID=America/Vancouver:20250415T080000
DTEND;TZID=America/Vancouver:20250415T170000
DTSTAMP:20260420T003633
CREATED:20250310T190850Z
LAST-MODIFIED:20250310T190850Z
UID:10000047-1744704000-1744736400@mme.sd54.bc.ca
SUMMARY:Scholastic Book Fair
DESCRIPTION:
URL:https://mme.sd54.bc.ca/event/scholastic-book-fair/2025-04-15/1/
CATEGORIES:Events
END:VEVENT
BEGIN:VEVENT
DTSTART;TZID=America/Vancouver:20250415T083000
DTEND;TZID=America/Vancouver:20250417T180000
DTSTAMP:20260420T003633
CREATED:20250310T190850Z
LAST-MODIFIED:20250310T190850Z
UID:10000048-1744705800-1744912800@mme.sd54.bc.ca
SUMMARY:Scholastic Book Fair
DESCRIPTION:
URL:https://mme.sd54.bc.ca/event/scholastic-book-fair/2025-04-15/2/
CATEGORIES:Events
END:VEVENT
BEGIN:VEVENT
DTSTART;VALUE=DATE:20250416
DTEND;VALUE=DATE:20250418
DTSTAMP:20260420T003633
CREATED:20250318T011228Z
LAST-MODIFIED:20250416T022824Z
UID:10000053-1744761600-1744934399@mme.sd54.bc.ca
SUMMARY:Parent/Teacher Interviews – Early Dismissal
DESCRIPTION:Parent/Teacher Interviews
URL:https://mme.sd54.bc.ca/event/parent-teacher-interviews-1-hr-early-dismissal/
CATEGORIES:Parent Teacher Interviews
END:VEVENT
BEGIN:VEVENT
DTSTART;TZID=America/Vancouver:20250416T140000
DTEND;TZID=America/Vancouver:20250416T190000
DTSTAMP:20260420T003633
CREATED:20250310T202653Z
LAST-MODIFIED:20250310T202653Z
UID:10000049-1744812000-1744830000@mme.sd54.bc.ca
SUMMARY:Student Led Conferences 2pm Dismissal
DESCRIPTION:
URL:https://mme.sd54.bc.ca/event/student-led-conferences-2pm-dismissal/
CATEGORIES:Parent Teacher Interviews
END:VEVENT
BEGIN:VEVENT
DTSTART;TZID=America/Vancouver:20250417T120000
DTEND;TZID=America/Vancouver:20250417T170000
DTSTAMP:20260420T003633
CREATED:20250310T202938Z
LAST-MODIFIED:20250310T202938Z
UID:10000050-1744891200-1744909200@mme.sd54.bc.ca
SUMMARY:Student Led Conferences 12pm Dismissal
DESCRIPTION:
URL:https://mme.sd54.bc.ca/event/student-led-conferences-12pm-dismissal/
END:VEVENT
BEGIN:VEVENT
DTSTART;VALUE=DATE:20250418
DTEND;VALUE=DATE:20250419
DTSTAMP:20260420T003633
CREATED:20250310T203444Z
LAST-MODIFIED:20250310T203444Z
UID:10000051-1744934400-1745020799@mme.sd54.bc.ca
SUMMARY:Good Friday - School Closed
DESCRIPTION:
URL:https://mme.sd54.bc.ca/event/good-friday-school-closed/
CATEGORIES:School Holidays
END:VEVENT
BEGIN:VEVENT
DTSTART;VALUE=DATE:20250418
DTEND;VALUE=DATE:20250419
DTSTAMP:20260420T003633
CREATED:20250319T011314Z
LAST-MODIFIED:20250418T022726Z
UID:10000054-1744934400-1745020799@mme.sd54.bc.ca
SUMMARY:Good Friday
DESCRIPTION:SD54 schools closed in observance of Good Friday
URL:https://mme.sd54.bc.ca/event/good-friday/
CATEGORIES:School Holidays
END:VEVENT
END:VCALENDAR