BEGIN:VCALENDAR
VERSION:2.0
PRODID:-//Muheim Elementary - ECPv6.15.19//NONSGML v1.0//EN
CALSCALE:GREGORIAN
METHOD:PUBLISH
X-WR-CALNAME:Muheim Elementary
X-ORIGINAL-URL:https://mme.sd54.bc.ca
X-WR-CALDESC:Events for Muheim Elementary
REFRESH-INTERVAL;VALUE=DURATION:PT1H
X-Robots-Tag:noindex
X-PUBLISHED-TTL:PT1H
BEGIN:VTIMEZONE
TZID:America/Vancouver
BEGIN:DAYLIGHT
TZOFFSETFROM:-0800
TZOFFSETTO:-0700
TZNAME:PDT
DTSTART:20220313T100000
END:DAYLIGHT
BEGIN:STANDARD
TZOFFSETFROM:-0700
TZOFFSETTO:-0800
TZNAME:PST
DTSTART:20221106T090000
END:STANDARD
BEGIN:DAYLIGHT
TZOFFSETFROM:-0800
TZOFFSETTO:-0700
TZNAME:PDT
DTSTART:20230312T100000
END:DAYLIGHT
BEGIN:STANDARD
TZOFFSETFROM:-0700
TZOFFSETTO:-0800
TZNAME:PST
DTSTART:20231105T090000
END:STANDARD
BEGIN:DAYLIGHT
TZOFFSETFROM:-0800
TZOFFSETTO:-0700
TZNAME:PDT
DTSTART:20240310T100000
END:DAYLIGHT
BEGIN:STANDARD
TZOFFSETFROM:-0700
TZOFFSETTO:-0800
TZNAME:PST
DTSTART:20241103T090000
END:STANDARD
END:VTIMEZONE
BEGIN:VEVENT
DTSTART;TZID=America/Vancouver:20231106T150000
DTEND;TZID=America/Vancouver:20231106T153000
DTSTAMP:20260421T044457
CREATED:20231027T183718Z
LAST-MODIFIED:20231027T183718Z
UID:10000022-1699282800-1699284600@mme.sd54.bc.ca
SUMMARY:Subway Forms and Payments Due
DESCRIPTION:Due at the office by 3:05pm
URL:https://mme.sd54.bc.ca/event/subway-forms-and-payments-due/
CATEGORIES:Hot Lunch
END:VEVENT
BEGIN:VEVENT
DTSTART;TZID=America/Vancouver:20231109T120000
DTEND;TZID=America/Vancouver:20231109T123000
DTSTAMP:20260421T044457
CREATED:20231027T183923Z
LAST-MODIFIED:20231027T183923Z
UID:10000023-1699531200-1699533000@mme.sd54.bc.ca
SUMMARY:Subway Lunch
DESCRIPTION:
URL:https://mme.sd54.bc.ca/event/subway-lunch/
CATEGORIES:Hot Lunch
END:VEVENT
BEGIN:VEVENT
DTSTART;VALUE=DATE:20231110
DTEND;VALUE=DATE:20231111
DTSTAMP:20260421T044457
CREATED:20231027T184038Z
LAST-MODIFIED:20231027T184038Z
UID:10000024-1699574400-1699660799@mme.sd54.bc.ca
SUMMARY:Professional Development
DESCRIPTION:No School for Students
URL:https://mme.sd54.bc.ca/event/professional-development/
END:VEVENT
END:VCALENDAR