BEGIN:VCALENDAR
VERSION:2.0
PRODID:-//Muheim Elementary - ECPv6.15.19//NONSGML v1.0//EN
CALSCALE:GREGORIAN
METHOD:PUBLISH
X-ORIGINAL-URL:https://mme.sd54.bc.ca
X-WR-CALDESC:Events for Muheim Elementary
REFRESH-INTERVAL;VALUE=DURATION:PT1H
X-Robots-Tag:noindex
X-PUBLISHED-TTL:PT1H
BEGIN:VTIMEZONE
TZID:America/Vancouver
BEGIN:DAYLIGHT
TZOFFSETFROM:-0800
TZOFFSETTO:-0700
TZNAME:PDT
DTSTART:20240310T100000
END:DAYLIGHT
BEGIN:STANDARD
TZOFFSETFROM:-0700
TZOFFSETTO:-0800
TZNAME:PST
DTSTART:20241103T090000
END:STANDARD
BEGIN:DAYLIGHT
TZOFFSETFROM:-0800
TZOFFSETTO:-0700
TZNAME:PDT
DTSTART:20250309T100000
END:DAYLIGHT
BEGIN:STANDARD
TZOFFSETFROM:-0700
TZOFFSETTO:-0800
TZNAME:PST
DTSTART:20251102T090000
END:STANDARD
BEGIN:DAYLIGHT
TZOFFSETFROM:-0800
TZOFFSETTO:-0700
TZNAME:PDT
DTSTART:20260308T100000
END:DAYLIGHT
BEGIN:STANDARD
TZOFFSETFROM:-0700
TZOFFSETTO:-0800
TZNAME:PST
DTSTART:20261101T090000
END:STANDARD
END:VTIMEZONE
BEGIN:VEVENT
DTSTART;VALUE=DATE:20250203
DTEND;VALUE=DATE:20250204
DTSTAMP:20260419T192536
CREATED:20250104T214302Z
LAST-MODIFIED:20250203T231241Z
UID:10000031-1738540800-1738627199@mme.sd54.bc.ca
SUMMARY:First Day of Second Semester SSS/HSS
DESCRIPTION:1st Day of the 2nd semester for Secondary Students
URL:https://mme.sd54.bc.ca/event/first-day-of-second-semester-sss-hss/
CATEGORIES:Events
END:VEVENT
BEGIN:VEVENT
DTSTART;VALUE=DATE:20250214
DTEND;VALUE=DATE:20250215
DTSTAMP:20260419T192536
CREATED:20250115T221351Z
LAST-MODIFIED:20250214T234258Z
UID:10000032-1739491200-1739577599@mme.sd54.bc.ca
SUMMARY:Professional Development Day
DESCRIPTION:Professional Development Day \nSD54 schools closed to students \n 
URL:https://mme.sd54.bc.ca/event/professional-development-day-5/
CATEGORIES:ProD
END:VEVENT
BEGIN:VEVENT
DTSTART;VALUE=DATE:20250217
DTEND;VALUE=DATE:20250218
DTSTAMP:20260419T192536
CREATED:20250118T222726Z
LAST-MODIFIED:20250217T235722Z
UID:10000033-1739750400-1739836799@mme.sd54.bc.ca
SUMMARY:Family Day
DESCRIPTION:SD54 schools closed in observance of Family Day
URL:https://mme.sd54.bc.ca/event/family-day/
CATEGORIES:School Holidays
END:VEVENT
BEGIN:VEVENT
DTSTART;TZID=America/Vancouver:20250224T093000
DTEND;TZID=America/Vancouver:20250224T100000
DTSTAMP:20260419T192536
CREATED:20250220T225530Z
LAST-MODIFIED:20250220T225606Z
UID:10000037-1740389400-1740391200@mme.sd54.bc.ca
SUMMARY:Carnaval Assembly
DESCRIPTION:
URL:https://mme.sd54.bc.ca/event/carnaval-assembly/
END:VEVENT
BEGIN:VEVENT
DTSTART;TZID=America/Vancouver:20250225T080000
DTEND;TZID=America/Vancouver:20250225T170000
DTSTAMP:20260419T192536
CREATED:20250220T225707Z
LAST-MODIFIED:20250220T230032Z
UID:10000038-1740470400-1740502800@mme.sd54.bc.ca
SUMMARY:Tuque & Sash Dress Up Day
DESCRIPTION:
URL:https://mme.sd54.bc.ca/event/tuque-sash-dress-up-day/
END:VEVENT
BEGIN:VEVENT
DTSTART;TZID=America/Vancouver:20250225T190000
DTEND;TZID=America/Vancouver:20250225T210000
DTSTAMP:20260419T192536
CREATED:20250126T224229Z
LAST-MODIFIED:20250225T002909Z
UID:10000034-1740510000-1740517200@mme.sd54.bc.ca
SUMMARY:School Board Meeting
DESCRIPTION:Board Meeting – Agendas \n\n \n 
URL:https://mme.sd54.bc.ca/event/school-board-meeting-3/
LOCATION:School Board Office\, 1235 Montreal Street\, PO Box 758\, Smithers\, BC\, V0J 2N0\, Canada
CATEGORIES:Board Meetings
END:VEVENT
BEGIN:VEVENT
DTSTART;TZID=America/Vancouver:20250225T190000
DTEND;TZID=America/Vancouver:20250225T210000
DTSTAMP:20260419T192536
CREATED:20250126T224229Z
LAST-MODIFIED:20250126T224229Z
UID:10000035-1740510000-1740517200@mme.sd54.bc.ca
SUMMARY:School Board Meeting
DESCRIPTION:Board Meeting – Agendas \n\n \n 
URL:https://mme.sd54.bc.ca/event/school-board-meeting-4/
LOCATION:School Board Office\, 1235 Montreal Street\, PO Box 758\, Smithers\, BC\, V0J 2N0\, Canada
CATEGORIES:Board Meetings
END:VEVENT
BEGIN:VEVENT
DTSTART;TZID=America/Vancouver:20250226T080000
DTEND;TZID=America/Vancouver:20250226T170000
DTSTAMP:20260419T192536
CREATED:20250220T225914Z
LAST-MODIFIED:20250220T225914Z
UID:10000039-1740556800-1740589200@mme.sd54.bc.ca
SUMMARY:Pink Shirt Day
DESCRIPTION:
URL:https://mme.sd54.bc.ca/event/pink-shirt-day/
END:VEVENT
END:VCALENDAR