BEGIN:VCALENDAR
VERSION:2.0
PRODID:-//Muheim Elementary - ECPv6.15.19//NONSGML v1.0//EN
CALSCALE:GREGORIAN
METHOD:PUBLISH
X-WR-CALNAME:Muheim Elementary
X-ORIGINAL-URL:https://mme.sd54.bc.ca
X-WR-CALDESC:Events for Muheim Elementary
REFRESH-INTERVAL;VALUE=DURATION:PT1H
X-Robots-Tag:noindex
X-PUBLISHED-TTL:PT1H
BEGIN:VTIMEZONE
TZID:America/Vancouver
BEGIN:DAYLIGHT
TZOFFSETFROM:-0800
TZOFFSETTO:-0700
TZNAME:PDT
DTSTART:20240310T100000
END:DAYLIGHT
BEGIN:STANDARD
TZOFFSETFROM:-0700
TZOFFSETTO:-0800
TZNAME:PST
DTSTART:20241103T090000
END:STANDARD
BEGIN:DAYLIGHT
TZOFFSETFROM:-0800
TZOFFSETTO:-0700
TZNAME:PDT
DTSTART:20250309T100000
END:DAYLIGHT
BEGIN:STANDARD
TZOFFSETFROM:-0700
TZOFFSETTO:-0800
TZNAME:PST
DTSTART:20251102T090000
END:STANDARD
BEGIN:DAYLIGHT
TZOFFSETFROM:-0800
TZOFFSETTO:-0700
TZNAME:PDT
DTSTART:20260308T100000
END:DAYLIGHT
BEGIN:STANDARD
TZOFFSETFROM:-0700
TZOFFSETTO:-0800
TZNAME:PST
DTSTART:20261101T090000
END:STANDARD
END:VTIMEZONE
BEGIN:VEVENT
DTSTART;TZID=America/Vancouver:20250602T150000
DTEND;TZID=America/Vancouver:20250602T153000
DTSTAMP:20260419T182341
CREATED:20250414T180637Z
LAST-MODIFIED:20250414T180714Z
UID:10000071-1748876400-1748878200@mme.sd54.bc.ca
SUMMARY:Hot Dog Forms Due
DESCRIPTION:
URL:https://mme.sd54.bc.ca/event/hot-dog-forms-due-2/
CATEGORIES:Hot Lunch
END:VEVENT
BEGIN:VEVENT
DTSTART;TZID=America/Vancouver:20250605T120000
DTEND;TZID=America/Vancouver:20250605T123000
DTSTAMP:20260419T182341
CREATED:20250414T181025Z
LAST-MODIFIED:20250414T181025Z
UID:10000072-1749124800-1749126600@mme.sd54.bc.ca
SUMMARY:Hot Dog Lunch
DESCRIPTION:
URL:https://mme.sd54.bc.ca/event/hot-dog-lunch-2/
CATEGORIES:Hot Lunch
END:VEVENT
BEGIN:VEVENT
DTSTART;TZID=America/Vancouver:20250609T150000
DTEND;TZID=America/Vancouver:20250609T153000
DTSTAMP:20260419T182341
CREATED:20250414T181249Z
LAST-MODIFIED:20250414T181249Z
UID:10000074-1749481200-1749483000@mme.sd54.bc.ca
SUMMARY:Subway Forms Due
DESCRIPTION:
URL:https://mme.sd54.bc.ca/event/subway-forms-due-4/
CATEGORIES:Hot Lunch
END:VEVENT
BEGIN:VEVENT
DTSTART;TZID=America/Vancouver:20250612T120000
DTEND;TZID=America/Vancouver:20250612T123000
DTSTAMP:20260419T182341
CREATED:20250414T181534Z
LAST-MODIFIED:20250414T181724Z
UID:10000076-1749729600-1749731400@mme.sd54.bc.ca
SUMMARY:Subway Lunch
DESCRIPTION:
URL:https://mme.sd54.bc.ca/event/subway-lunch-4/
CATEGORIES:Hot Lunch
END:VEVENT
BEGIN:VEVENT
DTSTART;TZID=America/Vancouver:20250616T150000
DTEND;TZID=America/Vancouver:20250616T153000
DTSTAMP:20260419T182341
CREATED:20250414T181858Z
LAST-MODIFIED:20250414T181858Z
UID:10000077-1750086000-1750087800@mme.sd54.bc.ca
SUMMARY:Pizza Forms Due
DESCRIPTION:
URL:https://mme.sd54.bc.ca/event/pizza-forms-due-3/
CATEGORIES:Hot Lunch
END:VEVENT
BEGIN:VEVENT
DTSTART;TZID=America/Vancouver:20250619T080000
DTEND;TZID=America/Vancouver:20250619T170000
DTSTAMP:20260419T182341
CREATED:20250414T182040Z
LAST-MODIFIED:20250414T182040Z
UID:10000078-1750320000-1750352400@mme.sd54.bc.ca
SUMMARY:Pizza Lunch
DESCRIPTION:
URL:https://mme.sd54.bc.ca/event/pizza-lunch-3/
CATEGORIES:Hot Lunch
END:VEVENT
END:VCALENDAR